BEGIN:VCALENDAR
VERSION:2.0
PRODID:-//GÉTICA, Grupo Español de Terapias Inmuno-Biológicas en Cáncer//NO
 NSGML kigkonsult.se iCalcreator 2.30.10//
CALSCALE:GREGORIAN
METHOD:PUBLISH
UID:18e1f8ef-2235-42ff-bbd5-49c280f11e72
X-WR-CALNAME:iCagenda
X-WR-CALDESC:Event Management Extension for Joomla!
X-WR-RELCALID:3E26604A-50F4-4449-8B3E-E4F4932D05B5
X-WR-TIMEZONE:Europe/Madrid
BEGIN:VTIMEZONE
TZID:Europe/Madrid
BEGIN:STANDARD
TZNAME:CET
DTSTART:20201025T030000
TZOFFSETFROM:+0200
TZOFFSETTO:+0100
RDATE:20211031T030000
END:STANDARD
BEGIN:DAYLIGHT
TZNAME:CEST
DTSTART:20200329T020000
TZOFFSETFROM:+0100
TZOFFSETTO:+0200
RDATE:20210328T020000
RDATE:20220327T020000
END:DAYLIGHT
END:VTIMEZONE
BEGIN:VEVENT
UID:54f0dfe9-579d-4518-b6fd-ba9e2d980b98
DTSTAMP:20260422T083114Z
CATEGORIES:GÉTICA
CLASS:PUBLIC
DESCRIPTION;ALTREP="CID:<FFFF__=0ABBE548DFE235B58f9e8a93d@coffeebean.com>":
 Consultar programa completo: https://getica.org/fitcancer-6-programa-webin
 ars\nInscripciones:&nbsp\;https://congresos.grupoaran.com/fitcancer6
DTSTART:20201201T160000Z
DTEND:20201201T160000Z
GEO:00;0
LOCATION:Online
ORGANIZER:
SEQUENCE:1
SUMMARY:FIT Cáncer 6 Online. Minisimposio virtual
TRANSP:OPAQUE
URL:https://getica.org/item-eventos/agenda/47-fit-cancer-6-online-minisimpo
 sio-virtual/2020-12-01-17-00
END:VEVENT
END:VCALENDAR
